BEGIN:VCALENDAR
VERSION:2.0
PRODID:-//Squarespace Inc/Squarespace 6//v6//EN
BEGIN:VEVENT
UID:52997746e4b0a5b6da06a83e@squarespace.com
DTSTAMP:20131206T073041Z
DTSTART:20140112T060000Z
DTEND:20140112T080000Z
SUMMARY:Competitor Practice
END:VEVENT
END:VCALENDAR
