BEGIN:VCALENDAR
VERSION:2.0
PRODID:-//Squarespace Inc/Squarespace 6//v6//EN
BEGIN:VEVENT
UID:528d9a8de4b0c14526029b79@squarespace.com
DTSTAMP:20131206T235219Z
DTSTART:20131208T071000Z
DTEND:20131208T080000Z
SUMMARY:Intermediate: Revision
END:VEVENT
END:VCALENDAR
