BEGIN:VCALENDAR
VERSION:2.0
PRODID:-//Squarespace Inc/Squarespace 6//v6//EN
BEGIN:VEVENT
UID:529976e9e4b0701e5f3d7004@squarespace.com
DTSTAMP:20131206T073026Z
DTSTART:20131229T060000Z
DTEND:20131229T080000Z
SUMMARY:Competitor Practice
END:VEVENT
END:VCALENDAR
