BEGIN:VCALENDAR
VERSION:2.0
PRODID:-//Squarespace Inc/Squarespace 6//v6//EN
BEGIN:VEVENT
UID:529976d3e4b0701e5f3d6ffb@squarespace.com
DTSTAMP:20131206T073008Z
DTSTART:20131222T060000Z
DTEND:20131222T080000Z
SUMMARY:Competitor Practice
END:VEVENT
END:VCALENDAR
