BEGIN:VCALENDAR
VERSION:2.0
PRODID:-//Squarespace Inc/Squarespace 6//v6//EN
BEGIN:VEVENT
UID:5299756de4b044b187f59bff@squarespace.com
DTSTAMP:20131206T073002Z
DTSTART:20131215T060000Z
DTEND:20131215T080000Z
SUMMARY:Competitor Practice
END:VEVENT
END:VCALENDAR
