BEGIN:VCALENDAR
VERSION:2.0
PRODID:-//Squarespace Inc/Squarespace 6//v6//EN
BEGIN:VEVENT
UID:528d98a8e4b090f62f2cfe31@squarespace.com
DTSTAMP:20131206T072514Z
DTSTART:20131201T071000Z
DTEND:20131201T080000Z
SUMMARY:Intermediate: Waltz
END:VEVENT
END:VCALENDAR
