BEGIN:VCALENDAR
VERSION:2.0
PRODID:-//Squarespace Inc/Squarespace 6//v6//EN
BEGIN:VEVENT
UID:528d9875e4b0f53560c46b87@squarespace.com
DTSTAMP:20131206T072827Z
DTSTART:20131201T060000Z
DTEND:20131201T070000Z
SUMMARY:Beginners: Rumba
END:VEVENT
END:VCALENDAR
