BEGIN:VCALENDAR
VERSION:2.0
PRODID:-//Squarespace Inc/Squarespace 6//v6//EN
BEGIN:VEVENT
UID:528d965de4b04aa0e208ece2@squarespace.com
DTSTAMP:20131206T072522Z
DTSTART:20131124T071000Z
DTEND:20131124T080000Z
SUMMARY:Intermediate: Cha Cha Cha
END:VEVENT
END:VCALENDAR
