BEGIN:VCALENDAR
VERSION:2.0
PRODID:-//Squarespace Inc/Squarespace 6//v6//EN
BEGIN:VEVENT
UID:528d9630e4b0ed5b46254813@squarespace.com
DTSTAMP:20140329T010405Z
DTSTART:20131124T060000Z
DTEND:20131124T070000Z
SUMMARY:Beginners: Quickstep & Rhythm Foxtrot
END:VEVENT
END:VCALENDAR
